BEGIN:VCALENDAR
VERSION:2.0
PRODID:-//Sydney Sindhi Association - ECPv5.9.1//NONSGML v1.0//EN
CALSCALE:GREGORIAN
METHOD:PUBLISH
X-WR-CALNAME:Sydney Sindhi Association
X-ORIGINAL-URL:https://sydneysindhiassociation.org
X-WR-CALDESC:Events for Sydney Sindhi Association
BEGIN:VTIMEZONE
TZID:UTC
BEGIN:STANDARD
TZOFFSETFROM:+0000
TZOFFSETTO:+0000
TZNAME:UTC
DTSTART:20260101T000000
END:STANDARD
END:VTIMEZONE
BEGIN:VEVENT
DTSTART;TZID=UTC:20260607T000000
DTEND;TZID=UTC:20260607T000000
DTSTAMP:20260422T141016
CREATED:20260210T113331Z
LAST-MODIFIED:20260210T114148Z
UID:880-1780790400-1780790400@sydneysindhiassociation.org
SUMMARY:Cultural Day
DESCRIPTION:
URL:https://sydneysindhiassociation.org/event/cultural-day/
END:VEVENT
END:VCALENDAR