BEGIN:VCALENDAR
VERSION:2.0
PRODID:-//Sydney Sindhi Association - ECPv5.9.1//NONSGML v1.0//EN
CALSCALE:GREGORIAN
METHOD:PUBLISH
X-WR-CALNAME:Sydney Sindhi Association
X-ORIGINAL-URL:https://sydneysindhiassociation.org
X-WR-CALDESC:Events for Sydney Sindhi Association
BEGIN:VTIMEZONE
TZID:UTC
BEGIN:STANDARD
TZOFFSETFROM:+0000
TZOFFSETTO:+0000
TZNAME:UTC
DTSTART:20260101T000000
END:STANDARD
END:VTIMEZONE
BEGIN:VEVENT
DTSTART;TZID=UTC:20260210T115759
DTEND;TZID=UTC:20260210T115759
DTSTAMP:20260422T222826
CREATED:20260210T112544Z
LAST-MODIFIED:20260210T115759Z
UID:876-1770724679-1770724679@sydneysindhiassociation.org
SUMMARY:Sindhi Movie
DESCRIPTION:Mid May To Be Confirmed
URL:https://sydneysindhiassociation.org/event/sindhi-movie/
END:VEVENT
BEGIN:VEVENT
DTSTART;TZID=UTC:20260210T115925
DTEND;TZID=UTC:20260210T115925
DTSTAMP:20260422T222826
CREATED:20260210T113830Z
LAST-MODIFIED:20260210T115925Z
UID:886-1770724765-1770724765@sydneysindhiassociation.org
SUMMARY:Diwali
DESCRIPTION:To Be Confirmed
URL:https://sydneysindhiassociation.org/event/diwali-2/
END:VEVENT
BEGIN:VEVENT
DTSTART;TZID=UTC:20260322T000000
DTEND;TZID=UTC:20260322T000000
DTSTAMP:20260422T222826
CREATED:20260210T112323Z
LAST-MODIFIED:20260210T114217Z
UID:874-1774137600-1774137600@sydneysindhiassociation.org
SUMMARY:Chettichand
DESCRIPTION:
URL:https://sydneysindhiassociation.org/event/chettichand/
END:VEVENT
BEGIN:VEVENT
DTSTART;TZID=UTC:20260607T000000
DTEND;TZID=UTC:20260607T000000
DTSTAMP:20260422T222826
CREATED:20260210T113331Z
LAST-MODIFIED:20260210T114148Z
UID:880-1780790400-1780790400@sydneysindhiassociation.org
SUMMARY:Cultural Day
DESCRIPTION:
URL:https://sydneysindhiassociation.org/event/cultural-day/
END:VEVENT
BEGIN:VEVENT
DTSTART;TZID=UTC:20260831T000000
DTEND;TZID=UTC:20260831T000000
DTSTAMP:20260422T222826
CREATED:20260210T113436Z
LAST-MODIFIED:20260210T114631Z
UID:882-1788134400-1788134400@sydneysindhiassociation.org
SUMMARY:Teejri
DESCRIPTION:
URL:https://sydneysindhiassociation.org/event/teejri-2/
END:VEVENT
BEGIN:VEVENT
DTSTART;TZID=UTC:20260912T000000
DTEND;TZID=UTC:20260912T000000
DTSTAMP:20260422T222826
CREATED:20260210T113533Z
LAST-MODIFIED:20260210T114133Z
UID:884-1789171200-1789171200@sydneysindhiassociation.org
SUMMARY:Thadri
DESCRIPTION:
URL:https://sydneysindhiassociation.org/event/thadri-2/
END:VEVENT
END:VCALENDAR