BEGIN:VCALENDAR
VERSION:2.0
PRODID:-//Sydney Sindhi Association - ECPv5.9.1//NONSGML v1.0//EN
CALSCALE:GREGORIAN
METHOD:PUBLISH
X-WR-CALNAME:Sydney Sindhi Association
X-ORIGINAL-URL:https://sydneysindhiassociation.org
X-WR-CALDESC:Events for Sydney Sindhi Association
BEGIN:VTIMEZONE
TZID:UTC
BEGIN:STANDARD
TZOFFSETFROM:+0000
TZOFFSETTO:+0000
TZNAME:UTC
DTSTART:20210101T000000
END:STANDARD
END:VTIMEZONE
BEGIN:VEVENT
DTSTART;TZID=UTC:20210621T080000
DTEND;TZID=UTC:20210621T210000
DTSTAMP:20260422T230205
CREATED:20210619T105138Z
LAST-MODIFIED:20210619T105139Z
UID:85-1624262400-1624309200@sydneysindhiassociation.org
SUMMARY:God's Birthday Celebration
DESCRIPTION:
URL:https://sydneysindhiassociation.org/event/gods-birthday-celebration/
LOCATION:13th street.47W\, 56 cooper street\,\, New York 10005\, 10005\, Australia
END:VEVENT
BEGIN:VEVENT
DTSTART;VALUE=DATE:20210418
DTEND;VALUE=DATE:20210419
DTSTAMP:20260422T230205
CREATED:20210626T095310Z
LAST-MODIFIED:20220225T042612Z
UID:641-1618704000-1618790399@sydneysindhiassociation.org
SUMMARY:New Committee 2022
DESCRIPTION:A new committee was elected on Sunday\, 18 April 2021. Please join us in welcoming the committee of 2021:\n\n\n\n\n\n\n\n\nNaveen Nankani – President\nAshish Motiani – Vice President\nSarina Hinduja – Secretary\nDivya Gopalani – Treasurer\nPoonam Bhamgara – Committee Member\nKiran Kewalramani – Committee Member\nRishi Punjabi – Committee Member\nDimple Jani – SSA Ambassador\n\n\n\n\n\n\n\n\nSumati Advani – Public Officer
URL:https://sydneysindhiassociation.org/event/new-committee-2022/
END:VEVENT
END:VCALENDAR